BEGIN:VCALENDAR
VERSION:2.0
PRODID:Events Booking
BEGIN:VEVENT
UID:69e52dcfc0542
SUMMARY:Water Anxiety/Treehouse Rivals 
DESCRIPTION:
LOCATION:4209 Coolidge Hwy\, Royal Oak\, MI 48073
DTSTART:20260329T010000Z
DTEND:20260328T040000Z
DTSTAMP:20260323T062338Z
ORGANIZER;CN=Eastside Music Scene:MAILTO:admin@eastsidemusicscene.com
GEO:42.527334;-83.185528
X-APPLE-STRUCTURED-LOCATION;VALUE=URI;X-ADDRESS=4209 Coolidge Hwy\, Royal O
 ak\, MI 48073;X-APPLE-RADIUS=72;X-TITLE=Bowlero Lanes & Lounge:42.527334;-
 83.185528
END:VEVENT
END:VCALENDAR