BEGIN:VCALENDAR
VERSION:2.0
PRODID:Events Booking
BEGIN:VEVENT
UID:69e52cb4a819f
SUMMARY:Under Pressure 
DESCRIPTION:
LOCATION:80874 Main St\, Memphis\, MI 48041
DTSTART:20260308T010000Z
DTEND:20260308T043000Z
DTSTAMP:20260303T110623Z
ORGANIZER;CN=Eastside Music Scene:MAILTO:admin@eastsidemusicscene.com
GEO:42.897092;-82.768677
X-APPLE-STRUCTURED-LOCATION;VALUE=URI;X-ADDRESS=80874 Main St\, Memphis\, M
 I 48041;X-APPLE-RADIUS=72;X-TITLE=Doghouse Tavern:42.897092;-82.768677
END:VEVENT
END:VCALENDAR