BEGIN:VCALENDAR
VERSION:2.0
PRODID:Events Booking
BEGIN:VEVENT
UID:69e4e1050773b
SUMMARY:True Devil
DESCRIPTION:
LOCATION:West 5th Street\, Royal Oak\, 48067 Michigan\, United States
DTSTART:20260415T230000Z
DTEND:20260416T000000Z
DTSTAMP:20260414T051358Z
ORGANIZER;CN=Eastside Music Scene:MAILTO:admin@eastsidemusicscene.com
GEO:42.486076;-83.146019
X-APPLE-STRUCTURED-LOCATION;VALUE=URI;X-ADDRESS=West 5th Street\, Royal Oak
 \, 48067 Michigan\, United States;X-APPLE-RADIUS=72;X-TITLE=Rock and Brews
  :42.486076;-83.146019
END:VEVENT
END:VCALENDAR