BEGIN:VCALENDAR
VERSION:2.0
PRODID:Events Booking
BEGIN:VEVENT
UID:69e52bac1464e
SUMMARY:Third Wave 
DESCRIPTION:
LOCATION:7317 Dyke Rd\, Clay Township\, MI 48001
DTSTART:20260307T000000Z
DTEND:20260307T030000Z
DTSTAMP:20260303T110725Z
ORGANIZER;CN=Eastside Music Scene:MAILTO:admin@eastsidemusicscene.com
GEO:42.659933;-82.621384
X-APPLE-STRUCTURED-LOCATION;VALUE=URI;X-ADDRESS=7317 Dyke Rd\, Clay Townshi
 p\, MI 48001;X-APPLE-RADIUS=72;X-TITLE=Cabana Blue Lakefront Sports Bar & 
 Grill:42.659933;-82.621384
END:VEVENT
END:VCALENDAR