BEGIN:VCALENDAR
VERSION:2.0
PRODID:Events Booking
BEGIN:VEVENT
UID:69e52d3c13f28
SUMMARY:The Sax Maniacs 
DESCRIPTION:
LOCATION:55076 Van Dyke Ave\, Shelby Township\, MI 48316
DTSTART:20260317T200000Z
DTEND:20260317T230000Z
DTSTAMP:20260311T041147Z
ORGANIZER;CN=Eastside Music Scene:MAILTO:admin@eastsidemusicscene.com
GEO:42.699176;-83.032255
X-APPLE-STRUCTURED-LOCATION;VALUE=URI;X-ADDRESS=55076 Van Dyke Ave\, Shelby
  Township\, MI 48316;X-APPLE-RADIUS=72;X-TITLE=Hamlin Pub-Van Dyke :42.699
 176;-83.032255
END:VEVENT
END:VCALENDAR