BEGIN:VCALENDAR
VERSION:2.0
PRODID:Events Booking
BEGIN:VEVENT
UID:69e52d2fa1583
SUMMARY:The Sax Maniacs
DESCRIPTION:
LOCATION:33025 Southbound Gratiot Ave\, Clinton Twp\, MI 48035
DTSTART:20260315T003000Z
DTEND:20260315T043000Z
DTSTAMP:20260305T090333Z
ORGANIZER;CN=Eastside Music Scene:MAILTO:admin@eastsidemusicscene.com
GEO:42.540831;-82.909284
X-APPLE-STRUCTURED-LOCATION;VALUE=URI;X-ADDRESS=33025 Southbound Gratiot Av
 e\, Clinton Twp\, MI 48035;X-APPLE-RADIUS=72;X-TITLE=Alibi Inn:42.540831;-
 82.909284
END:VEVENT
END:VCALENDAR