BEGIN:VCALENDAR
VERSION:2.0
PRODID:Events Booking
BEGIN:VEVENT
UID:69e52db20138d
SUMMARY:The Love Junkies 
DESCRIPTION:
LOCATION:33626 Schoenherr Rd\, Sterling Heights\, MI 48312
DTSTART:20260329T000000Z
DTEND:20260329T040000Z
DTSTAMP:20260320T054542Z
ORGANIZER;CN=Eastside Music Scene:MAILTO:admin@eastsidemusicscene.com
GEO:42.543457;-82.989085
X-APPLE-STRUCTURED-LOCATION;VALUE=URI;X-ADDRESS=33626 Schoenherr Rd\, Sterl
 ing Heights\, MI 48312;X-APPLE-RADIUS=72;X-TITLE=Roger's Roost:42.543457;-
 82.989085
END:VEVENT
END:VCALENDAR