BEGIN:VCALENDAR
VERSION:2.0
PRODID:Events Booking
BEGIN:VEVENT
UID:69e52d895d8bf
SUMMARY:The Love Junkies 
DESCRIPTION:
LOCATION:400 Water St\, Rochester\, MI 48307
DTSTART:20260308T020000Z
DTEND:20260308T053000Z
DTSTAMP:20260301T095726Z
ORGANIZER;CN=Eastside Music Scene:MAILTO:admin@eastsidemusicscene.com
GEO:42.681578;-83.131377
X-APPLE-STRUCTURED-LOCATION;VALUE=URI;X-ADDRESS=400 Water St\, Rochester\, 
 MI 48307;X-APPLE-RADIUS=72;X-TITLE=Rochester Mills Beer Company:42.681578;
 -83.131377
END:VEVENT
END:VCALENDAR