BEGIN:VCALENDAR
VERSION:2.0
PRODID:Events Booking
BEGIN:VEVENT
UID:69e52cae0c7f2
SUMMARY:The High Landers
DESCRIPTION:
LOCATION:8851 Dixie Hwy\, Ira Township\, MI 48023
DTSTART:20260328T230000Z
DTEND:20260328T040000Z
DTSTAMP:20260319T094648Z
ORGANIZER;CN=Eastside Music Scene:MAILTO:admin@eastsidemusicscene.com
GEO:42.680989;-82.658544
X-APPLE-STRUCTURED-LOCATION;VALUE=URI;X-ADDRESS=8851 Dixie Hwy\, Ira Townsh
 ip\, MI 48023;X-APPLE-RADIUS=72;X-TITLE=Zef's Lighthouse Tavern:42.680989;
 -82.658544
END:VEVENT
END:VCALENDAR