BEGIN:VCALENDAR
VERSION:2.0
PRODID:Events Booking
BEGIN:VEVENT
UID:69e52bab93cf3
SUMMARY:The C Notes 
DESCRIPTION:
LOCATION:4300 Cadieux Rd\, Detroit\, MI 48224
DTSTART:20260308T190000Z
DTEND:20260308T220000Z
DTSTAMP:20260302T075153Z
ORGANIZER;CN=Eastside Music Scene:MAILTO:admin@eastsidemusicscene.com
GEO:42.402192;-82.926358
X-APPLE-STRUCTURED-LOCATION;VALUE=URI;X-ADDRESS=4300 Cadieux Rd\, Detroit\,
  MI 48224;X-APPLE-RADIUS=72;X-TITLE=Cadieux Cafe:42.402192;-82.926358
END:VEVENT
END:VCALENDAR