BEGIN:VCALENDAR
VERSION:2.0
PRODID:Events Booking
BEGIN:VEVENT
UID:69e52cb4a548e
SUMMARY:Suzi Marsh
DESCRIPTION:
LOCATION:24214 Jefferson Ave\, St Clair Shores\, MI 48080
DTSTART:20260313T230000Z
DTEND:20260313T040000Z
DTSTAMP:20260305T091526Z
ORGANIZER;CN=Eastside Music Scene:MAILTO:admin@eastsidemusicscene.com
GEO:42.468278;-82.878123
X-APPLE-STRUCTURED-LOCATION;VALUE=URI;X-ADDRESS=24214 Jefferson Ave\, St Cl
 air Shores\, MI 48080;X-APPLE-RADIUS=72;X-TITLE=Hook SCS:42.468278;-82.878
 123
END:VEVENT
END:VCALENDAR