BEGIN:VCALENDAR
VERSION:2.0
PRODID:Events Booking
BEGIN:VEVENT
UID:69e52c64bd02d
SUMMARY:StereoBabe 
DESCRIPTION:
LOCATION:1488 N. Rochester Rd  Rochester Hill\, MI 48307
DTSTART:20260314T000000Z
DTEND:20260314T040000Z
DTSTAMP:20260307T102654Z
ORGANIZER;CN=Eastside Music Scene:MAILTO:admin@eastsidemusicscene.com
GEO:42.694869;-83.133573
X-APPLE-STRUCTURED-LOCATION;VALUE=URI;X-ADDRESS=1488 N. Rochester Rd  Roche
 ster Hill\, MI 48307;X-APPLE-RADIUS=72;X-TITLE=Hamlin-Tienken:42.694869;-8
 3.133573
END:VEVENT
END:VCALENDAR