BEGIN:VCALENDAR
VERSION:2.0
PRODID:Events Booking
BEGIN:VEVENT
UID:69e52d11dac62
SUMMARY:Stereo Kings
DESCRIPTION:
LOCATION:124 W 4th St\, Rochester\, MI 48307
DTSTART:20260317T203000Z
DTEND:20260317T233000Z
DTSTAMP:20260311T034344Z
ORGANIZER;CN=Eastside Music Scene:MAILTO:admin@eastsidemusicscene.com
GEO:42.681688;-83.135167
X-APPLE-STRUCTURED-LOCATION;VALUE=URI;X-ADDRESS=124 W 4th St\, Rochester\, 
 MI 48307;X-APPLE-RADIUS=72;X-TITLE=Rochester Corner Bar:42.681688;-83.1351
 67
END:VEVENT
END:VCALENDAR