BEGIN:VCALENDAR
VERSION:2.0
PRODID:Events Booking
BEGIN:VEVENT
UID:69e52cd382dec
SUMMARY:Sound Project w/ Steve Lee on keys\, Rod Batayeh on Percussion and 
 Eric Gala on Sax
DESCRIPTION:
LOCATION:34540 Harper Ave\, Clinton Twp\, MI 48035
DTSTART:20260322T010000Z
DTEND:20260322T050000Z
DTSTAMP:20260315T225848Z
ORGANIZER;CN=Eastside Music Scene:MAILTO:admin@eastsidemusicscene.com
GEO:42.552122;-82.872727
X-APPLE-STRUCTURED-LOCATION;VALUE=URI;X-ADDRESS=34540 Harper Ave\, Clinton 
 Twp\, MI 48035;X-APPLE-RADIUS=72;X-TITLE=Winners Bar & Grill:42.552122;-82
 .872727
END:VEVENT
END:VCALENDAR