BEGIN:VCALENDAR
VERSION:2.0
PRODID:Events Booking
BEGIN:VEVENT
UID:69e52d89d7554
SUMMARY:Ryan Scott & The Creekhounds 
DESCRIPTION:
LOCATION:40000 Garfield Rd\, Clinton Twp\, MI 48038
DTSTART:20260308T020000Z
DTEND:20260308T060000Z
DTSTAMP:20260301T100838Z
ORGANIZER;CN=Eastside Music Scene:MAILTO:admin@eastsidemusicscene.com
GEO:42.591557;-82.951396
X-APPLE-STRUCTURED-LOCATION;VALUE=URI;X-ADDRESS=40000 Garfield Rd\, Clinton
  Twp\, MI 48038;X-APPLE-RADIUS=72;X-TITLE=Freddy's Bar & Grill:42.591557;-
 82.951396
END:VEVENT
END:VCALENDAR