BEGIN:VCALENDAR
VERSION:2.0
PRODID:Events Booking
BEGIN:VEVENT
UID:69e4fc5e00d85
SUMMARY:Roscoe & AnaMaria
DESCRIPTION:
LOCATION:152 N River Rd\, Mt Clemens\, MI 48043
DTSTART:20260411T220000Z
DTEND:20260412T010000Z
DTSTAMP:20260405T093707Z
ORGANIZER;CN=Eastside Music Scene:MAILTO:admin@eastsidemusicscene.com
GEO:42.598615;-82.867179
X-APPLE-STRUCTURED-LOCATION;VALUE=URI;X-ADDRESS=152 N River Rd\, Mt Clemens
 \, MI 48043;X-APPLE-RADIUS=72;X-TITLE=Octopus’ Beer Garden :42.598615;-8
 2.867179
END:VEVENT
END:VCALENDAR