BEGIN:VCALENDAR
VERSION:2.0
PRODID:Events Booking
BEGIN:VEVENT
UID:69e52dcfbd021
SUMMARY:Rob & Anna Hilliard 
DESCRIPTION:
LOCATION:56129 Van Dyke Ave\, Shelby Township\, MI 48316
DTSTART:20260327T230000Z
DTEND:20260328T180000Z
DTSTAMP:20260304T132707Z
ORGANIZER;CN=Eastside Music Scene:MAILTO:admin@eastsidemusicscene.com
GEO:42.707106;-83.036196
X-APPLE-STRUCTURED-LOCATION;VALUE=URI;X-ADDRESS=56129 Van Dyke Ave\, Shelby
  Township\, MI 48316;X-APPLE-RADIUS=72;X-TITLE=G’s Kitchen and Cocktails
  :42.707106;-83.036196
END:VEVENT
END:VCALENDAR