BEGIN:VCALENDAR
VERSION:2.0
PRODID:Events Booking
BEGIN:VEVENT
UID:69e4e1042310d
SUMMARY:Off The Cuff 
DESCRIPTION:
LOCATION:28410 S River Rd\, Harrison Twp\, MI 48045
DTSTART:20260418T003000Z
DTEND:20260418T043000Z
DTSTAMP:20260410T102157Z
ORGANIZER;CN=Eastside Music Scene:MAILTO:admin@eastsidemusicscene.com
GEO:42.590476;-82.826615
X-APPLE-STRUCTURED-LOCATION;VALUE=URI;X-ADDRESS=28410 S River Rd\, Harrison
  Twp\, MI 48045;X-APPLE-RADIUS=72;X-TITLE=Bentleys Roadhouse:42.590476;-82
 .826615
END:VEVENT
END:VCALENDAR