BEGIN:VCALENDAR
VERSION:2.0
PRODID:Events Booking
BEGIN:VEVENT
UID:69e52bc988d94
SUMMARY:Off The Cuff 
DESCRIPTION:
LOCATION:28410 S River Rd\, Harrison Twp\, MI 48045
DTSTART:20260328T003000Z
DTEND:20260327T040000Z
DTSTAMP:20260326T043201Z
ORGANIZER;CN=Eastside Music Scene:MAILTO:admin@eastsidemusicscene.com
GEO:42.590476;-82.826615
X-APPLE-STRUCTURED-LOCATION;VALUE=URI;X-ADDRESS=28410 S River Rd\, Harrison
  Twp\, MI 48045;X-APPLE-RADIUS=72;X-TITLE=Bentleys Roadhouse:42.590476;-82
 .826615
END:VEVENT
END:VCALENDAR