BEGIN:VCALENDAR
VERSION:2.0
PRODID:Events Booking
BEGIN:VEVENT
UID:69e4e103e0d89
SUMMARY:No Strings Attached 
DESCRIPTION:
LOCATION:121 Broadway St\, Marine City\, MI 48039
DTSTART:20260418T000000Z
DTEND:20260418T030000Z
DTSTAMP:20260413T002714Z
ORGANIZER;CN=Eastside Music Scene:MAILTO:admin@eastsidemusicscene.com
GEO:42.719579;-82.491132
X-APPLE-STRUCTURED-LOCATION;VALUE=URI;X-ADDRESS=121 Broadway St\, Marine Ci
 ty\, MI 48039;X-APPLE-RADIUS=72;X-TITLE=Newport Pub:42.719579;-82.491132
END:VEVENT
END:VCALENDAR