BEGIN:VCALENDAR
VERSION:2.0
PRODID:Events Booking
BEGIN:VEVENT
UID:69e4e151c6d97
SUMMARY: Meldrumless
DESCRIPTION:
LOCATION:7479 Dyke Rd\, Clay Township\, MI 48001
DTSTART:20260417T223000Z
DTEND:20260418T013000Z
DTSTAMP:20260415T031205Z
ORGANIZER;CN=Eastside Music Scene:MAILTO:admin@eastsidemusicscene.com
GEO:42.664835;-82.623305
X-APPLE-STRUCTURED-LOCATION;VALUE=URI;X-ADDRESS=7479 Dyke Rd\, Clay Townshi
 p\, MI 48001;X-APPLE-RADIUS=72;X-TITLE=On the Rocks Smoke House & Tiki Bar
 :42.664835;-82.623305
END:VEVENT
END:VCALENDAR