BEGIN:VCALENDAR
VERSION:2.0
PRODID:Events Booking
BEGIN:VEVENT
UID:69e4fbf6e0ad7
SUMMARY:Lisa Mary 
DESCRIPTION:
LOCATION:52298 Gratiot Ave\, Chesterfield\, MI 48051
DTSTART:20260408T223000Z
DTEND:20260409T013000Z
DTSTAMP:20260405T104109Z
ORGANIZER;CN=Eastside Music Scene:MAILTO:admin@eastsidemusicscene.com
GEO:42.684935;-82.824817
X-APPLE-STRUCTURED-LOCATION;VALUE=URI;X-ADDRESS=52298 Gratiot Ave\, Chester
 field\, MI 48051;X-APPLE-RADIUS=72;X-TITLE=Gargies Bar:42.684935;-82.82481
 7
END:VEVENT
END:VCALENDAR