BEGIN:VCALENDAR
VERSION:2.0
PRODID:Events Booking
BEGIN:VEVENT
UID:69e52d3028963
SUMMARY:Lisa Mary 
DESCRIPTION:
LOCATION:16650 E 14 Mile Rd\, Fraser\, MI 48026
DTSTART:20260314T220000Z
DTEND:20260315T010000Z
DTSTAMP:20260313T042342Z
ORGANIZER;CN=Eastside Music Scene:MAILTO:admin@eastsidemusicscene.com
GEO:42.539358;-82.951836
X-APPLE-STRUCTURED-LOCATION;VALUE=URI;X-ADDRESS=16650 E 14 Mile Rd\, Fraser
 \, MI 48026;X-APPLE-RADIUS=72;X-TITLE=Infinity Hall and Sidebar:42.539358;
 -82.951836
END:VEVENT
END:VCALENDAR