BEGIN:VCALENDAR
VERSION:2.0
PRODID:Events Booking
BEGIN:VEVENT
UID:69e52c64879c7
SUMMARY:Kenny Gee 
DESCRIPTION:
LOCATION:8089 Dixie Hwy\, Ira Township\, MI 48023
DTSTART:20260325T220000Z
DTEND:20260326T010000Z
DTSTAMP:20260324T193120Z
ORGANIZER;CN=Eastside Music Scene:MAILTO:admin@eastsidemusicscene.com
GEO:42.675171;-82.631435
X-APPLE-STRUCTURED-LOCATION;VALUE=URI;X-ADDRESS=8089 Dixie Hwy\, Ira Townsh
 ip\, MI 48023;X-APPLE-RADIUS=72;X-TITLE=The Griffin :42.675171;-82.631435
END:VEVENT
END:VCALENDAR