BEGIN:VCALENDAR
VERSION:2.0
PRODID:Events Booking
BEGIN:VEVENT
UID:69e52db272a10
SUMMARY:Kayleigh KAnn Duo w/ Samwise 
DESCRIPTION:
LOCATION:36310 Main St F Suite F\, New Baltimore\, MI 48047
DTSTART:20260321T233000Z
DTEND:20260322T030000Z
DTSTAMP:20260316T085114Z
ORGANIZER;CN=Eastside Music Scene:MAILTO:admin@eastsidemusicscene.com
GEO:42.683001;-82.735088
X-APPLE-STRUCTURED-LOCATION;VALUE=URI;X-ADDRESS=36310 Main St F Suite F\, N
 ew Baltimore\, MI 48047;X-APPLE-RADIUS=72;X-TITLE=Blind Owl Restaurant & B
 ar:42.683001;-82.735088
END:VEVENT
END:VCALENDAR