BEGIN:VCALENDAR
VERSION:2.0
PRODID:Events Booking
BEGIN:VEVENT
UID:69e52d8f43c87
SUMMARY:Kathleen Murray Band
DESCRIPTION:
LOCATION:40813 Garfield Rd\, Clinton Twp\, MI 48038
DTSTART:20260321T010000Z
DTEND:20260321T050000Z
DTSTAMP:20260314T103524Z
ORGANIZER;CN=Eastside Music Scene:MAILTO:admin@eastsidemusicscene.com
GEO:42.597644;-82.954688
X-APPLE-STRUCTURED-LOCATION;VALUE=URI;X-ADDRESS=40813 Garfield Rd\, Clinton
  Twp\, MI 48038;X-APPLE-RADIUS=72;X-TITLE=Stray Cat Lounge:42.597644;-82.9
 54688
END:VEVENT
END:VCALENDAR