BEGIN:VCALENDAR
VERSION:2.0
PRODID:Events Booking
BEGIN:VEVENT
UID:69e4fc690071c
SUMMARY:Jimmy Auquier
DESCRIPTION:
LOCATION:1988 S Rochester Rd\, Rochester Hills\, MI 48307
DTSTART:20260412T000000Z
DTEND:20260411T040000Z
DTSTAMP:20260405T100851Z
ORGANIZER;CN=Eastside Music Scene:MAILTO:admin@eastsidemusicscene.com
GEO:42.653575;-83.133922
X-APPLE-STRUCTURED-LOCATION;VALUE=URI;X-ADDRESS=1988 S Rochester Rd\, Roche
 ster Hills\, MI 48307;X-APPLE-RADIUS=72;X-TITLE=Hamlin Pub-Rochester:42.65
 3575;-83.133922
END:VEVENT
END:VCALENDAR