BEGIN:VCALENDAR
VERSION:2.0
PRODID:Events Booking
BEGIN:VEVENT
UID:69e52d657cd4d
SUMMARY:Jeremy Harkins 
DESCRIPTION:
LOCATION:5491 Auburn Rd\, Shelby Township\, MI 48317
DTSTART:20260317T220000Z
DTEND:20260318T010000Z
DTSTAMP:20260311T034011Z
ORGANIZER;CN=Eastside Music Scene:MAILTO:admin@eastsidemusicscene.com
GEO:42.637519;-83.056273
X-APPLE-STRUCTURED-LOCATION;VALUE=URI;X-ADDRESS=5491 Auburn Rd\, Shelby Tow
 nship\, MI 48317;X-APPLE-RADIUS=72;X-TITLE=Kay Jay's Irish Pub:42.637519;-
 83.056273
END:VEVENT
END:VCALENDAR