BEGIN:VCALENDAR
VERSION:2.0
PRODID:Events Booking
BEGIN:VEVENT
UID:69e517e1922b5
SUMMARY:Jam Night w/ Bobby East
DESCRIPTION:
LOCATION:15130 Mack Ave\, Grosse Pointe Park\, MI 48230
DTSTART:20260401T000000Z
DTEND:20260401T030000Z
DTSTAMP:20260311T024913Z
ORGANIZER;CN=Eastside Music Scene:MAILTO:admin@eastsidemusicscene.com
GEO:42.388168;-82.944445
X-APPLE-STRUCTURED-LOCATION;VALUE=URI;X-ADDRESS=15130 Mack Ave\, Grosse Poi
 nte Park\, MI 48230;X-APPLE-RADIUS=72;X-TITLE=Cabbage Patch Saloon:42.3881
 68;-82.944445
END:VEVENT
END:VCALENDAR