BEGIN:VCALENDAR
VERSION:2.0
PRODID:Events Booking
BEGIN:VEVENT
UID:69e52cd2e5a20
SUMMARY:Jacki Daniels 
DESCRIPTION:
LOCATION:50741 Corporate Dr\, Shelby Township\, MI 48315
DTSTART:20260326T220000Z
DTEND:20260327T010000Z
DTSTAMP:20260319T094330Z
ORGANIZER;CN=Eastside Music Scene:MAILTO:admin@eastsidemusicscene.com
GEO:42.668742;-83.012018
X-APPLE-STRUCTURED-LOCATION;VALUE=URI;X-ADDRESS=50741 Corporate Dr\, Shelby
  Township\, MI 48315;X-APPLE-RADIUS=72;X-TITLE=Verona Inspired Italian :42
 .668742;-83.012018
END:VEVENT
END:VCALENDAR