BEGIN:VCALENDAR
VERSION:2.0
PRODID:Events Booking
BEGIN:VEVENT
UID:69e4fbb882464
SUMMARY:Interstate 90’s
DESCRIPTION:
LOCATION:101 N Main St\, Mt Clemens\, MI 48043
DTSTART:20260411T000000Z
DTEND:20260411T040000Z
DTSTAMP:20260405T011831Z
ORGANIZER;CN=Eastside Music Scene:MAILTO:admin@eastsidemusicscene.com
GEO:42.600551;-82.876509
X-APPLE-STRUCTURED-LOCATION;VALUE=URI;X-ADDRESS=101 N Main St\, Mt Clemens\
 , MI 48043;X-APPLE-RADIUS=72;X-TITLE=Three Blind Mice Irish Pub:42.600551;
 -82.876509
END:VEVENT
END:VCALENDAR