BEGIN:VCALENDAR
VERSION:2.0
PRODID:Events Booking
BEGIN:VEVENT
UID:69e52d8eb874a
SUMMARY:Hazel Love Band 
DESCRIPTION:
LOCATION:Van Dyke Avenue\, Sterling Heights\, 48312 Michigan\, United State
 s
DTSTART:20260315T010000Z
DTEND:20260315T043000Z
DTSTAMP:20260304T123653Z
ORGANIZER;CN=Eastside Music Scene:MAILTO:admin@eastsidemusicscene.com
GEO:42.571255;-83.027995
X-APPLE-STRUCTURED-LOCATION;VALUE=URI;X-ADDRESS=Van Dyke Avenue\, Sterling 
 Heights\, 48312 Michigan\, United States;X-APPLE-RADIUS=72;X-TITLE=Club 54
 :42.571255;-83.027995
END:VEVENT
END:VCALENDAR