BEGIN:VCALENDAR
VERSION:2.0
PRODID:Events Booking
BEGIN:VEVENT
UID:69e52c64906cd
SUMMARY:Foster & Lewis 
DESCRIPTION:
LOCATION:3000 26 Mile Rd\, Shelby Township\, MI 48316
DTSTART:20260304T230000Z
DTEND:20260304T050000Z
DTSTAMP:20260301T070037Z
ORGANIZER;CN=Eastside Music Scene:MAILTO:admin@eastsidemusicscene.com
GEO:42.712517;-83.08402
X-APPLE-STRUCTURED-LOCATION;VALUE=URI;X-ADDRESS=3000 26 Mile Rd\, Shelby To
 wnship\, MI 48316;X-APPLE-RADIUS=72;X-TITLE=Stony Creek Roadhouse:42.71251
 7;-83.08402
END:VEVENT
END:VCALENDAR