BEGIN:VCALENDAR
VERSION:2.0
PRODID:Events Booking
BEGIN:VEVENT
UID:69e4e2ea5504d
SUMMARY:Fleetwood Gold - America’s Fleetwood Mac Experience 
DESCRIPTION:
LOCATION:61 N Walnut St\, Mt Clemens\, MI 48043
DTSTART:20260419T000000Z
DTEND:20260418T040000Z
DTSTAMP:20260408T095044Z
ORGANIZER;CN=Eastside Music Scene:MAILTO:admin@eastsidemusicscene.com
GEO:42.598624;-82.877851
X-APPLE-STRUCTURED-LOCATION;VALUE=URI;X-ADDRESS=61 N Walnut St\, Mt Clemens
 \, MI 48043;X-APPLE-RADIUS=72;X-TITLE=Your Mothers :42.598624;-82.877851
END:VEVENT
END:VCALENDAR