BEGIN:VCALENDAR
VERSION:2.0
PRODID:Events Booking
BEGIN:VEVENT
UID:69e4fbba840b2
SUMMARY:Evan Perri
DESCRIPTION:
LOCATION:39504 Jefferson Ave\, Harrison Twp\, MI 48045
DTSTART:20260406T220000Z
DTEND:20260407T010000Z
DTSTAMP:20260403T100424Z
ORGANIZER;CN=Eastside Music Scene:MAILTO:admin@eastsidemusicscene.com
GEO:42.592065;-82.809205
X-APPLE-STRUCTURED-LOCATION;VALUE=URI;X-ADDRESS=39504 Jefferson Ave\, Harri
 son Twp\, MI 48045;X-APPLE-RADIUS=72;X-TITLE=Harrison's Speakeasy:42.59206
 5;-82.809205
END:VEVENT
END:VCALENDAR