BEGIN:VCALENDAR
VERSION:2.0
PRODID:Events Booking
BEGIN:VEVENT
UID:69e52d116465e
SUMMARY:Erik Blundell 
DESCRIPTION:
LOCATION:49 N Rose St\, Mt Clemens\, MI 48043
DTSTART:20260311T233000Z
DTEND:20260311T040000Z
DTSTAMP:20260309T073710Z
ORGANIZER;CN=Eastside Music Scene:MAILTO:admin@eastsidemusicscene.com
GEO:42.601255;-82.898411
X-APPLE-STRUCTURED-LOCATION;VALUE=URI;X-ADDRESS=49 N Rose St\, Mt Clemens\,
  MI 48043;X-APPLE-RADIUS=72;X-TITLE=The Hut Bar and Grill :42.601255;-82.8
 98411
END:VEVENT
END:VCALENDAR