BEGIN:VCALENDAR
VERSION:2.0
PRODID:Events Booking
BEGIN:VEVENT
UID:69e52d11553e6
SUMMARY:Don Puglisi 
DESCRIPTION:
LOCATION:Auburn Road\, Utica\, 48317 Michigan\, United States
DTSTART:20260328T230000Z
DTEND:20260329T020000Z
DTSTAMP:20260323T022821Z
ORGANIZER;CN=Eastside Music Scene:MAILTO:admin@eastsidemusicscene.com
GEO:42.62599;-83.040207
X-APPLE-STRUCTURED-LOCATION;VALUE=URI;X-ADDRESS=Auburn Road\, Utica\, 48317
  Michigan\, United States;X-APPLE-RADIUS=72;X-TITLE=Vino & Vibes Wine Bar:
 42.62599;-83.040207
END:VEVENT
END:VCALENDAR