BEGIN:VCALENDAR
VERSION:2.0
PRODID:Events Booking
BEGIN:VEVENT
UID:69e52bc9892b3
SUMMARY:Dockside 6 
DESCRIPTION:
LOCATION:34005 Southbound Gratiot Ave\, Clinton Township\, MI 48035
DTSTART:20260322T000000Z
DTEND:20260322T040000Z
DTSTAMP:20260312T094230Z
ORGANIZER;CN=Eastside Music Scene:MAILTO:admin@eastsidemusicscene.com
GEO:42.547441;-82.904528
X-APPLE-STRUCTURED-LOCATION;VALUE=URI;X-ADDRESS=34005 Southbound Gratiot Av
 e\, Clinton Township\, MI 48035;X-APPLE-RADIUS=72;X-TITLE=Jack’s Pub :42
 .547441;-82.904528
END:VEVENT
END:VCALENDAR