BEGIN:VCALENDAR
VERSION:2.0
PRODID:Events Booking
BEGIN:VEVENT
UID:69e4e151296fd
SUMMARY:Distorted View 
DESCRIPTION:
LOCATION:33025 Southbound Gratiot Ave\, Clinton Twp\, MI 48035
DTSTART:20260419T003000Z
DTEND:20260419T043000Z
DTSTAMP:20260408T094400Z
ORGANIZER;CN=Eastside Music Scene:MAILTO:admin@eastsidemusicscene.com
GEO:42.540831;-82.909284
X-APPLE-STRUCTURED-LOCATION;VALUE=URI;X-ADDRESS=33025 Southbound Gratiot Av
 e\, Clinton Twp\, MI 48035;X-APPLE-RADIUS=72;X-TITLE=Alibi Inn:42.540831;-
 82.909284
END:VEVENT
END:VCALENDAR