BEGIN:VCALENDAR
VERSION:2.0
PRODID:Events Booking
BEGIN:VEVENT
UID:69e5181b3858b
SUMMARY:Dave Hamilton 
DESCRIPTION:
LOCATION:40000 Garfield Rd\, Clinton Twp\, MI 48038
DTSTART:20260402T230000Z
DTEND:20260403T030000Z
DTSTAMP:20260401T010131Z
ORGANIZER;CN=Eastside Music Scene:MAILTO:admin@eastsidemusicscene.com
GEO:42.591557;-82.951396
X-APPLE-STRUCTURED-LOCATION;VALUE=URI;X-ADDRESS=40000 Garfield Rd\, Clinton
  Twp\, MI 48038;X-APPLE-RADIUS=72;X-TITLE=Freddy's Bar & Grill:42.591557;-
 82.951396
END:VEVENT
END:VCALENDAR