BEGIN:VCALENDAR
VERSION:2.0
PRODID:Events Booking
BEGIN:VEVENT
UID:69e4fb2269e78
SUMMARY:Dan McCaslin
DESCRIPTION:
LOCATION:40813 Garfield Rd\, Clinton Twp\, MI 48038
DTSTART:20260408T230000Z
DTEND:20260409T020000Z
DTSTAMP:20260405T092823Z
ORGANIZER;CN=Eastside Music Scene:MAILTO:admin@eastsidemusicscene.com
GEO:42.597644;-82.954688
X-APPLE-STRUCTURED-LOCATION;VALUE=URI;X-ADDRESS=40813 Garfield Rd\, Clinton
  Twp\, MI 48038;X-APPLE-RADIUS=72;X-TITLE=Stray Cat Lounge:42.597644;-82.9
 54688
END:VEVENT
END:VCALENDAR