BEGIN:VCALENDAR
VERSION:2.0
PRODID:Events Booking
BEGIN:VEVENT
UID:69e513be884ad
SUMMARY:Dal Bouey
DESCRIPTION:
LOCATION:39091 Garfield Rd\, Clinton Twp\, MI 48038
DTSTART:20260403T230000Z
DTEND:20260404T030000Z
DTSTAMP:20260212T232937Z
ORGANIZER;CN=Eastside Music Scene:MAILTO:admin@eastsidemusicscene.com
GEO:42.585277;-82.953219
X-APPLE-STRUCTURED-LOCATION;VALUE=URI;X-ADDRESS=39091 Garfield Rd\, Clinton
  Twp\, MI 48038;X-APPLE-RADIUS=72;X-TITLE=Luciano's Italian Restaurant:42.
 585277;-82.953219
END:VEVENT
END:VCALENDAR