BEGIN:VCALENDAR
VERSION:2.0
PRODID:Events Booking
BEGIN:VEVENT
UID:69e52c83e9b3a
SUMMARY:Dal Bouey
DESCRIPTION:
LOCATION:50925 Hayes Rd\, Shelby Township\, MI 48315
DTSTART:20260305T000000Z
DTEND:20260305T030000Z
DTSTAMP:20260212T232937Z
ORGANIZER;CN=Eastside Music Scene:MAILTO:admin@eastsidemusicscene.com
GEO:42.670974;-82.976046
X-APPLE-STRUCTURED-LOCATION;VALUE=URI;X-ADDRESS=50925 Hayes Rd\, Shelby Tow
 nship\, MI 48315;X-APPLE-RADIUS=72;X-TITLE=900 Degrees Pizzeria Bistro:42.
 670974;-82.976046
END:VEVENT
END:VCALENDAR