BEGIN:VCALENDAR
VERSION:2.0
PRODID:Events Booking
BEGIN:VEVENT
UID:69e52d89610c4
SUMMARY:Chris Canas Band 
DESCRIPTION:
LOCATION:28911 Jefferson Ave\, St Clair Shores\, MI 48081
DTSTART:20260315T010000Z
DTEND:20260315T040000Z
DTSTAMP:20260304T125117Z
ORGANIZER;CN=Eastside Music Scene:MAILTO:admin@eastsidemusicscene.com
GEO:42.505717;-82.882436
X-APPLE-STRUCTURED-LOCATION;VALUE=URI;X-ADDRESS=28911 Jefferson Ave\, St Cl
 air Shores\, MI 48081;X-APPLE-RADIUS=72;X-TITLE=Blue Goose:42.505717;-82.8
 82436
END:VEVENT
END:VCALENDAR