BEGIN:VCALENDAR
VERSION:2.0
PRODID:Events Booking
BEGIN:VEVENT
UID:69e52cd2e271a
SUMMARY:Caleb Malooley 
DESCRIPTION:
LOCATION:7493 River Rd\, Marine City\, MI 48039
DTSTART:20260307T000000Z
DTEND:20260306T050000Z
DTSTAMP:20260301T100122Z
ORGANIZER;CN=Eastside Music Scene:MAILTO:admin@eastsidemusicscene.com
GEO:42.679125;-82.510295
X-APPLE-STRUCTURED-LOCATION;VALUE=URI;X-ADDRESS=7493 River Rd\, Marine City
 \, MI 48039;X-APPLE-RADIUS=72;X-TITLE=AJ's Salt Docks:42.679125;-82.510295
END:VEVENT
END:VCALENDAR