BEGIN:VCALENDAR
VERSION:2.0
PRODID:Events Booking
BEGIN:VEVENT
UID:69e52c11b2961
SUMMARY:Cabbage Patch Jam Night 
DESCRIPTION:
LOCATION:15130 Mack Ave\, Grosse Pointe Park\, MI 48230
DTSTART:20260312T000000Z
DTEND:20260312T200000Z
DTSTAMP:20260311T025053Z
ORGANIZER;CN=Eastside Music Scene:MAILTO:admin@eastsidemusicscene.com
GEO:42.388168;-82.944445
X-APPLE-STRUCTURED-LOCATION;VALUE=URI;X-ADDRESS=15130 Mack Ave\, Grosse Poi
 nte Park\, MI 48230;X-APPLE-RADIUS=72;X-TITLE=Cabbage Patch Saloon:42.3881
 68;-82.944445
END:VEVENT
END:VCALENDAR