BEGIN:VCALENDAR
VERSION:2.0
PRODID:Events Booking
BEGIN:VEVENT
UID:69e52d65b2cf3
SUMMARY:Billy Hamilton and The Low Riders 
DESCRIPTION:
LOCATION:24420 Jefferson Ave\, St Clair Shores\, MI 48080
DTSTART:20260308T010000Z
DTEND:20260308T040000Z
DTSTAMP:20260302T012444Z
ORGANIZER;CN=Eastside Music Scene:MAILTO:admin@eastsidemusicscene.com
GEO:42.471677;-82.883874
X-APPLE-STRUCTURED-LOCATION;VALUE=URI;X-ADDRESS=24420 Jefferson Ave\, St Cl
 air Shores\, MI 48080;X-APPLE-RADIUS=72;X-TITLE=WaterMark Bar and Grille:4
 2.471677;-82.883874
END:VEVENT
END:VCALENDAR