BEGIN:VCALENDAR
VERSION:2.0
PRODID:Events Booking
BEGIN:VEVENT
UID:69e52c8465f9a
SUMMARY:Bandwagon 
DESCRIPTION:
LOCATION:42305 Garfield Rd\, Clinton Township\, MI 48038
DTSTART:20260308T020000Z
DTEND:20260308T060000Z
DTSTAMP:20260303T115004Z
ORGANIZER;CN=Eastside Music Scene:MAILTO:admin@eastsidemusicscene.com
GEO:42.607903;-82.953401
X-APPLE-STRUCTURED-LOCATION;VALUE=URI;X-ADDRESS=42305 Garfield Rd\, Clinton
  Township\, MI 48038;X-APPLE-RADIUS=72;X-TITLE=Hamlin Pub-Clinton Township
 :42.607903;-82.953401
END:VEVENT
END:VCALENDAR