BEGIN:VCALENDAR
VERSION:2.0
PRODID:Events Booking
BEGIN:VEVENT
UID:69e4e15c4617c
SUMMARY:9D Proof 
DESCRIPTION:
LOCATION:39693 Jefferson Ave\, Harrison Twp\, MI 48045
DTSTART:20260419T010000Z
DTEND:20260419T050000Z
DTSTAMP:20260412T004054Z
ORGANIZER;CN=Eastside Music Scene:MAILTO:admin@eastsidemusicscene.com
GEO:42.59447;-82.810049
X-APPLE-STRUCTURED-LOCATION;VALUE=URI;X-ADDRESS=39693 Jefferson Ave\, Harri
 son Twp\, MI 48045;X-APPLE-RADIUS=72;X-TITLE=Windjammer:42.59447;-82.81004
 9
END:VEVENT
END:VCALENDAR